BEGIN:VCALENDAR
VERSION:2.0
PRODID:-//Cancer Research Racquet - ECPv6.0.12//NONSGML v1.0//EN
CALSCALE:GREGORIAN
METHOD:PUBLISH
X-ORIGINAL-URL:https://cancerresearchracquet.com
X-WR-CALDESC:Events for Cancer Research Racquet
REFRESH-INTERVAL;VALUE=DURATION:PT1H
X-Robots-Tag:noindex
X-PUBLISHED-TTL:PT1H
BEGIN:VTIMEZONE
TZID:America/Los_Angeles
BEGIN:DAYLIGHT
TZOFFSETFROM:-0800
TZOFFSETTO:-0700
TZNAME:PDT
DTSTART:20220313T100000
END:DAYLIGHT
BEGIN:STANDARD
TZOFFSETFROM:-0700
TZOFFSETTO:-0800
TZNAME:PST
DTSTART:20221106T090000
END:STANDARD
END:VTIMEZONE
BEGIN:VEVENT
DTSTART;VALUE=DATE:20220624
DTEND;VALUE=DATE:20220625
DTSTAMP:20260425T123215
CREATED:20220325T144507Z
LAST-MODIFIED:20220802T162407Z
UID:3343-1656032400-1656050400@cancerresearchracquet.com
SUMMARY:Hurlingham Tennis Classic\, London
DESCRIPTION:Set in this elegant\, quintessentially British venue\, first class tennis and hospitality come together exclusively for the perfect tennis social.
URL:https://cancerresearchracquet.com/events/hurlingham-tennis-classic/
LOCATION:The Hurlingham Club\, Ranelagh Gardens\, London\, SW6 3PR\, United Kingdom
ATTACH;FMTTYPE=image/jpeg:https://cancerresearchracquet.com/wp-content/uploads/2022/03/Hurlingham-Club-2022.jpg
END:VEVENT
END:VCALENDAR