BEGIN:VCALENDAR
VERSION:2.0
PRODID:-//Cancer Research Racquet - ECPv6.0.12//NONSGML v1.0//EN
CALSCALE:GREGORIAN
METHOD:PUBLISH
X-ORIGINAL-URL:https://cancerresearchracquet.com
X-WR-CALDESC:Events for Cancer Research Racquet
REFRESH-INTERVAL;VALUE=DURATION:PT1H
X-Robots-Tag:noindex
X-PUBLISHED-TTL:PT1H
BEGIN:VTIMEZONE
TZID:America/Los_Angeles
BEGIN:DAYLIGHT
TZOFFSETFROM:-0800
TZOFFSETTO:-0700
TZNAME:PDT
DTSTART:20240310T100000
END:DAYLIGHT
BEGIN:STANDARD
TZOFFSETFROM:-0700
TZOFFSETTO:-0800
TZNAME:PST
DTSTART:20241103T090000
END:STANDARD
END:VTIMEZONE
BEGIN:VEVENT
DTSTART;VALUE=DATE:20240530
DTEND;VALUE=DATE:20240601
DTSTAMP:20260424T000952
CREATED:20231128T164315Z
LAST-MODIFIED:20231130T093352Z
UID:5495-1717030800-1717117199@cancerresearchracquet.com
SUMMARY:Mamma Mia – The Party at the O2 Arena in London
DESCRIPTION:Mamma Mia – The Party is about the most fun you can ever have if you LOVE ABBA (and we do).  20 people from our group attended the show this past May and the ABBA spectacular is 4.5 hours of intense happiness.  As such\, we must include a WARNING requesting non-attendance by those who are Sad\, Bitter\, Heart-Broken\, Melancholy\, Forlorn or Depressed.  The Cost is $450 US.  Drop me a note if you and your friends will be dancing the night away with us at the O2 in London. \nHere is a link to the website for photos and video clips – https://mammamiatheparty.co.uk/ \nGet in touch
URL:https://cancerresearchracquet.com/events/mamma-mia-the-party-at-the-o2-2024/
LOCATION:The O2\, Peninsula Square\, London\, SE10 0DX\, United Kingdom
ATTACH;FMTTYPE=image/jpeg:https://cancerresearchracquet.com/wp-content/uploads/2022/07/Mammamia.jpg
END:VEVENT
END:VCALENDAR