BEGIN:VCALENDAR
VERSION:2.0
PRODID:-//Cancer Research Racquet - ECPv6.0.12//NONSGML v1.0//EN
CALSCALE:GREGORIAN
METHOD:PUBLISH
X-WR-CALNAME:Cancer Research Racquet
X-ORIGINAL-URL:https://cancerresearchracquet.com
X-WR-CALDESC:Events for Cancer Research Racquet
REFRESH-INTERVAL;VALUE=DURATION:PT1H
X-Robots-Tag:noindex
X-PUBLISHED-TTL:PT1H
BEGIN:VTIMEZONE
TZID:America/Los_Angeles
BEGIN:DAYLIGHT
TZOFFSETFROM:-0800
TZOFFSETTO:-0700
TZNAME:PDT
DTSTART:20230312T100000
END:DAYLIGHT
BEGIN:STANDARD
TZOFFSETFROM:-0700
TZOFFSETTO:-0800
TZNAME:PST
DTSTART:20231105T090000
END:STANDARD
END:VTIMEZONE
BEGIN:VEVENT
DTSTART;TZID=America/Los_Angeles:20231208T180000
DTEND;TZID=America/Los_Angeles:20231208T230000
DTSTAMP:20260424T042356
CREATED:20231128T165509Z
LAST-MODIFIED:20231128T165553Z
UID:5502-1702058400-1702076400@cancerresearchracquet.com
SUMMARY:Top of the Mark - San Francisco
DESCRIPTION:We will be celebrating all the joys of our 2023 adventures at our “Endless Bourbon / Endless Champagne” Event at the Top of the Mark in San Francisco.  Our event will take place on Friday\, December 8 at 6pm.  You and friends are welcome to join in the fun.  The Top of the Mark is part of the Mark Hopkins InterContinental at 999 California Street\, San Francisco.  Drop me a note if you and friends will be joining us.  I will make sure we have sufficient Champagne on Ice. \nGet in touch
URL:https://cancerresearchracquet.com/events/top-of-the-mark-san-francisco/
LOCATION:Top of The Mark\, InterContinental. San Francisco Mark Hopkins.\, 999 California Street\, San Francisco\, CA 94108\, United States
ATTACH;FMTTYPE=image/jpeg:https://cancerresearchracquet.com/wp-content/uploads/2023/11/top-of-the-mark-intercontinental.jpg
END:VEVENT
END:VCALENDAR