BEGIN:VCALENDAR
VERSION:2.0
PRODID:-//Cancer Research Racquet - ECPv6.0.12//NONSGML v1.0//EN
CALSCALE:GREGORIAN
METHOD:PUBLISH
X-ORIGINAL-URL:https://cancerresearchracquet.com
X-WR-CALDESC:Events for Cancer Research Racquet
REFRESH-INTERVAL;VALUE=DURATION:PT1H
X-Robots-Tag:noindex
X-PUBLISHED-TTL:PT1H
BEGIN:VTIMEZONE
TZID:America/Los_Angeles
BEGIN:DAYLIGHT
TZOFFSETFROM:-0800
TZOFFSETTO:-0700
TZNAME:PDT
DTSTART:20230312T100000
END:DAYLIGHT
BEGIN:STANDARD
TZOFFSETFROM:-0700
TZOFFSETTO:-0800
TZNAME:PST
DTSTART:20231105T090000
END:STANDARD
END:VTIMEZONE
BEGIN:VEVENT
DTSTART;VALUE=DATE:20231101
DTEND;VALUE=DATE:20231102
DTSTAMP:20260424T065056
CREATED:20220720T093917Z
LAST-MODIFIED:20220802T163716Z
UID:5290-1698800400-1698883199@cancerresearchracquet.com
SUMMARY:Formula 1\, Night Race on the Strip in Las Vegas
DESCRIPTION:
URL:https://cancerresearchracquet.com/events/formula-1-night-race-on-the-strip-in-las-vegas/
LOCATION:Las Vegas\, Las Vegas\, NV\, United States
ATTACH;FMTTYPE=image/jpeg:https://cancerresearchracquet.com/wp-content/uploads/2022/07/F1-Vagas.jpg
END:VEVENT
END:VCALENDAR