BEGIN:VCALENDAR
VERSION:2.0
PRODID:-//Cancer Research Racquet - ECPv6.0.12//NONSGML v1.0//EN
CALSCALE:GREGORIAN
METHOD:PUBLISH
X-WR-CALNAME:Cancer Research Racquet
X-ORIGINAL-URL:https://cancerresearchracquet.com
X-WR-CALDESC:Events for Cancer Research Racquet
REFRESH-INTERVAL;VALUE=DURATION:PT1H
X-Robots-Tag:noindex
X-PUBLISHED-TTL:PT1H
BEGIN:VTIMEZONE
TZID:America/Los_Angeles
BEGIN:DAYLIGHT
TZOFFSETFROM:-0800
TZOFFSETTO:-0700
TZNAME:PDT
DTSTART:20230312T100000
END:DAYLIGHT
BEGIN:STANDARD
TZOFFSETFROM:-0700
TZOFFSETTO:-0800
TZNAME:PST
DTSTART:20231105T090000
END:STANDARD
END:VTIMEZONE
BEGIN:VEVENT
DTSTART;VALUE=DATE:20230528
DTEND;VALUE=DATE:20230530
DTSTAMP:20260424T174328
CREATED:20230202T140605Z
LAST-MODIFIED:20230415T072751Z
UID:5416-1685235600-1685321999@cancerresearchracquet.com
SUMMARY:Roland Garros French Open 2023\, Paris
DESCRIPTION:For the second year in a row\, we have taken down THE ENTIRE HOSPITALITY AREA on Court Phillipe Chatrier on Sunday\, May 28th. 190 super-cool friends from around the world who have already RSVP’d and who will be joining in the fun in Paris. Our secret stash of unclaimed Corporate Passes is 10 as of today (200 – 190 = a secret stash of 10). If you and friends would like to join in the French Open fun\, now would be a great time to drop us a note.  We will maintain a wait-list once the 10 Corporate Passes have been claimed. \nGet in touch if you’d like to join us and get involved 
URL:https://cancerresearchracquet.com/events/roland-garros-french-open-2023-paris/
LOCATION:Stade Roland-Garros\, 2 Avenue Gordon Bennett\, Paris\, 75016\, France
ATTACH;FMTTYPE=image/jpeg:https://cancerresearchracquet.com/wp-content/uploads/2022/03/French-Open-2022.jpg
END:VEVENT
END:VCALENDAR