BEGIN:VCALENDAR
VERSION:2.0
PRODID:-//Cancer Research Racquet - ECPv6.0.12//NONSGML v1.0//EN
CALSCALE:GREGORIAN
METHOD:PUBLISH
X-ORIGINAL-URL:https://cancerresearchracquet.com
X-WR-CALDESC:Events for Cancer Research Racquet
REFRESH-INTERVAL;VALUE=DURATION:PT1H
X-Robots-Tag:noindex
X-PUBLISHED-TTL:PT1H
BEGIN:VTIMEZONE
TZID:America/Los_Angeles
BEGIN:DAYLIGHT
TZOFFSETFROM:-0800
TZOFFSETTO:-0700
TZNAME:PDT
DTSTART:20220313T100000
END:DAYLIGHT
BEGIN:STANDARD
TZOFFSETFROM:-0700
TZOFFSETTO:-0800
TZNAME:PST
DTSTART:20221106T090000
END:STANDARD
END:VTIMEZONE
BEGIN:VEVENT
DTSTART;VALUE=DATE:20221202
DTEND;VALUE=DATE:20221203
DTSTAMP:20260425T032158
CREATED:20220413T142826Z
LAST-MODIFIED:20220802T164721Z
UID:4361-1669942800-1669975200@cancerresearchracquet.com
SUMMARY:Endless Champagne & Bourbon\, San Francisco
DESCRIPTION:
URL:https://cancerresearchracquet.com/events/endless-champagne-bourbon-event/
LOCATION:Top of The Mark\, InterContinental. San Francisco Mark Hopkins.\, 999 California Street\, San Francisco\, CA 94108\, United States
ATTACH;FMTTYPE=image/jpeg:https://cancerresearchracquet.com/wp-content/uploads/2022/04/Top-of-the-Mark.jpg
END:VEVENT
END:VCALENDAR