BEGIN:VCALENDAR
VERSION:2.0
PRODID:-//Cancer Research Racquet - ECPv6.0.12//NONSGML v1.0//EN
CALSCALE:GREGORIAN
METHOD:PUBLISH
X-WR-CALNAME:Cancer Research Racquet
X-ORIGINAL-URL:https://cancerresearchracquet.com
X-WR-CALDESC:Events for Cancer Research Racquet
REFRESH-INTERVAL;VALUE=DURATION:PT1H
X-Robots-Tag:noindex
X-PUBLISHED-TTL:PT1H
BEGIN:VTIMEZONE
TZID:America/Los_Angeles
BEGIN:DAYLIGHT
TZOFFSETFROM:-0800
TZOFFSETTO:-0700
TZNAME:PDT
DTSTART:20220313T100000
END:DAYLIGHT
BEGIN:STANDARD
TZOFFSETFROM:-0700
TZOFFSETTO:-0800
TZNAME:PST
DTSTART:20221106T090000
END:STANDARD
END:VTIMEZONE
BEGIN:VEVENT
DTSTART;TZID=America/Los_Angeles:20221027T180000
DTEND;TZID=America/Los_Angeles:20221027T233000
DTSTAMP:20260425T070107
CREATED:20220720T092714Z
LAST-MODIFIED:20220927T091807Z
UID:5280-1666893600-1666913400@cancerresearchracquet.com
SUMMARY:Endless Bourbon & Endless Champagne\, at the Camelback Inn
DESCRIPTION:
URL:https://cancerresearchracquet.com/events/endless-bourbon-endless-champagne-camelback-inn/
LOCATION:Camelback Inn\, 4635 Marriot Resort Hotel Condominium\, Paradise Valley\, Phoenix\, AZ\, AZ 85253\, United States
ATTACH;FMTTYPE=image/jpeg:https://cancerresearchracquet.com/wp-content/uploads/2022/07/Camelback-Inn-1.jpg
END:VEVENT
END:VCALENDAR