BEGIN:VCALENDAR
VERSION:2.0
PRODID:-//Cancer Research Racquet - ECPv6.0.12//NONSGML v1.0//EN
CALSCALE:GREGORIAN
METHOD:PUBLISH
X-ORIGINAL-URL:https://cancerresearchracquet.com
X-WR-CALDESC:Events for Cancer Research Racquet
REFRESH-INTERVAL;VALUE=DURATION:PT1H
X-Robots-Tag:noindex
X-PUBLISHED-TTL:PT1H
BEGIN:VTIMEZONE
TZID:America/Los_Angeles
BEGIN:DAYLIGHT
TZOFFSETFROM:-0800
TZOFFSETTO:-0700
TZNAME:PDT
DTSTART:20220313T100000
END:DAYLIGHT
BEGIN:STANDARD
TZOFFSETFROM:-0700
TZOFFSETTO:-0800
TZNAME:PST
DTSTART:20221106T090000
END:STANDARD
END:VTIMEZONE
BEGIN:VEVENT
DTSTART;TZID=America/Los_Angeles:20221022T100000
DTEND;TZID=America/Los_Angeles:20221022T200000
DTSTAMP:20260425T071022
CREATED:20220720T093155Z
LAST-MODIFIED:20220816T133839Z
UID:5286-1666432800-1666468800@cancerresearchracquet.com
SUMMARY:Endless Bourbon & Endless Champagne\, Halloween Cookie Party
DESCRIPTION:This year\, our Open House will take place on Saturday\, October 22 from 10am to 8pm so there will be Halloween themes.\n\nYes\, Costumes are optional but\, fyi\, we celebrate the holidays with gusto in Las Vegas – just sayin’\n\nFrom 10am – noon\, we will be serving scrambled eggs\, burnt bacon and mimosas\nFrom noon – 4pm\, we will be serving pizza and beer\nFrom 4pm – 8pm\, we will be serving pasta\, wine and bourbon\n\nSwing by on Saturday\, October 22 as your schedule permits.  Stay for an hour or hang out and laugh all day\n\nWe will be baking & icing Halloween sugar cookies all day.  So kids\, spouses & SO’s are welcome.
URL:https://cancerresearchracquet.com/events/endless-bourbon-endless-champagne-halloween-cookie-party/
LOCATION:Las Vegas\, Las Vegas\, NV\, United States
ATTACH;FMTTYPE=image/jpeg:https://cancerresearchracquet.com/wp-content/uploads/2022/07/Halloween.jpg
END:VEVENT
END:VCALENDAR